BEGIN:VCALENDAR
PRODID:-//Pixl8//Eventfolio//EN
VERSION:2.0
X-WR-TIMEZONE:Europe/London
CALSCALE:GREGORIAN
METHOD:PUBLISH
CLASS:PUBLIC
BEGIN:VTIMEZONE
TZID:Europe/London
LAST-MODIFIED:20260306T231828Z
TZURL:https://www.tzurl.org/zoneinfo-outlook/Europe/London
X-LIC-LOCATION:Europe/London
BEGIN:DAYLIGHT
TZNAME:BST
TZOFFSETFROM:+0000
TZOFFSETTO:+0100
DTSTART:19700329T010000
RRULE:FREQ=YEARLY;BYMONTH=3;BYDAY=-1SU
END:DAYLIGHT
BEGIN:STANDARD
TZNAME:GMT
TZOFFSETFROM:+0100
TZOFFSETTO:+0000
DTSTART:19701025T020000
RRULE:FREQ=YEARLY;BYMONTH=10;BYDAY=-1SU
END:STANDARD
END:VTIMEZONE
BEGIN:VEVENT
DTSTART;TZID=Europe/London;VALUE=DATE:20251204
DTEND;TZID=Europe/London;VALUE=DATE:20251205
DTSTAMP:20260425T231625Z
UID:{1A7C2F3B-0F6B-4878-978F5554DC8E1E52}
LOCATION:Online
SUMMARY:Transforming stress – strategies for staying at your best
DESCRIPTION:This MyPD event is designed to equip participants with the knowledge, strategies and skills to thrive through stressful or challenging situations.\n
 \n
 Event details: https://www.amosshe.org.uk/latest/event-calendar/transforming-stress-strategies-for-staying-at-your-best-2.html
PRIORITY:1
END:VEVENT
END:VCALENDAR