BEGIN:VCALENDAR
PRODID:-//Pixl8//Eventfolio//EN
VERSION:2.0
X-WR-TIMEZONE:Europe/London
CALSCALE:GREGORIAN
METHOD:PUBLISH
CLASS:PUBLIC
BEGIN:VTIMEZONE
TZID:Europe/London
LAST-MODIFIED:20260306T231828Z
TZURL:https://www.tzurl.org/zoneinfo-outlook/Europe/London
X-LIC-LOCATION:Europe/London
BEGIN:DAYLIGHT
TZNAME:BST
TZOFFSETFROM:+0000
TZOFFSETTO:+0100
DTSTART:19700329T010000
RRULE:FREQ=YEARLY;BYMONTH=3;BYDAY=-1SU
END:DAYLIGHT
BEGIN:STANDARD
TZNAME:GMT
TZOFFSETFROM:+0100
TZOFFSETTO:+0000
DTSTART:19701025T020000
RRULE:FREQ=YEARLY;BYMONTH=10;BYDAY=-1SU
END:STANDARD
END:VTIMEZONE
BEGIN:VEVENT
DTSTART;TZID=Europe/London;VALUE=DATE:20250625
DTEND;TZID=Europe/London;VALUE=DATE:20250628
DTSTAMP:20260425T190438Z
UID:{126A22D4-7697-476D-AE36A7650DD0D5CA}
LOCATION:Manchester\, United Kingdom
SUMMARY:UKCISA annual conference 2025
DESCRIPTION:Bookings for UKCISA's flagship event to be held at the University of Manchester from 25 to 27 June 2025 are now open. Bringing together practitioners and experts working in international education, UKCISA's conference is an excellent opportunity to gain fresh insights, connect with leaders and colleagues to strengthen professional networks and stay informed about the latest changes and updates.\n
 \n
 Event details: https://www.amosshe.org.uk/latest/event-calendar/ukcisa-annual-conference-2025.html
PRIORITY:1
END:VEVENT
END:VCALENDAR