BEGIN:VCALENDAR
PRODID:-//Pixl8//Eventfolio//EN
VERSION:2.0
X-WR-TIMEZONE:Europe/London
CALSCALE:GREGORIAN
METHOD:PUBLISH
CLASS:PUBLIC
BEGIN:VTIMEZONE
TZID:Europe/London
LAST-MODIFIED:20260306T231828Z
TZURL:https://www.tzurl.org/zoneinfo-outlook/Europe/London
X-LIC-LOCATION:Europe/London
BEGIN:DAYLIGHT
TZNAME:BST
TZOFFSETFROM:+0000
TZOFFSETTO:+0100
DTSTART:19700329T010000
RRULE:FREQ=YEARLY;BYMONTH=3;BYDAY=-1SU
END:DAYLIGHT
BEGIN:STANDARD
TZNAME:GMT
TZOFFSETFROM:+0100
TZOFFSETTO:+0000
DTSTART:19701025T020000
RRULE:FREQ=YEARLY;BYMONTH=10;BYDAY=-1SU
END:STANDARD
END:VTIMEZONE
BEGIN:VEVENT
DTSTART;TZID=Europe/London:20250707T091500
DTEND;TZID=Europe/London:20250707T131500
DTSTAMP:20260425T173742Z
UID:{E346DC30-B323-4BFC-AD45B08658537443}
LOCATION:Online
SUMMARY:Understanding addiction: causes, effects and recovery
DESCRIPTION:This Drugs Training event draws upon the most up to date research to explore the complex issue of addiction.\n
 \n
 Event details: https://www.amosshe.org.uk/latest/event-calendar/understanding-addiction-causes-effects-and-recovery-7-july-2025.html
PRIORITY:1
END:VEVENT
END:VCALENDAR