BEGIN:VCALENDAR
PRODID:-//Pixl8//Eventfolio//EN
VERSION:2.0
X-WR-TIMEZONE:Europe/London
CALSCALE:GREGORIAN
METHOD:PUBLISH
CLASS:PUBLIC
BEGIN:VTIMEZONE
TZID:Europe/London
LAST-MODIFIED:20260306T231828Z
TZURL:https://www.tzurl.org/zoneinfo-outlook/Europe/London
X-LIC-LOCATION:Europe/London
BEGIN:DAYLIGHT
TZNAME:BST
TZOFFSETFROM:+0000
TZOFFSETTO:+0100
DTSTART:19700329T010000
RRULE:FREQ=YEARLY;BYMONTH=3;BYDAY=-1SU
END:DAYLIGHT
BEGIN:STANDARD
TZNAME:GMT
TZOFFSETFROM:+0100
TZOFFSETTO:+0000
DTSTART:19701025T020000
RRULE:FREQ=YEARLY;BYMONTH=10;BYDAY=-1SU
END:STANDARD
END:VTIMEZONE
BEGIN:VEVENT
DTSTART;TZID=Europe/London:20250305T090000
DTEND;TZID=Europe/London:20250305T130000
DTSTAMP:20260425T231216Z
UID:{D28F4135-98D2-46CD-B3933503D01C6459.45721}
LOCATION:Online
SUMMARY:Understanding pastoral support models: strategies and methods
DESCRIPTION:Join us to explore how higher education providers are offering non-academic pastoral support to students.\n
 \n
 Event details: https://www.amosshe.org.uk/latest/event-calendar/understanding-pastoral-support-models-strategies-and-methods.html
PRIORITY:1
END:VEVENT
END:VCALENDAR