BEGIN:VCALENDAR
PRODID:-//Pixl8//Eventfolio//EN
VERSION:2.0
X-WR-TIMEZONE:Europe/London
CALSCALE:GREGORIAN
METHOD:PUBLISH
CLASS:PUBLIC
BEGIN:VTIMEZONE
TZID:Europe/London
LAST-MODIFIED:20260306T231828Z
TZURL:https://www.tzurl.org/zoneinfo-outlook/Europe/London
X-LIC-LOCATION:Europe/London
BEGIN:DAYLIGHT
TZNAME:BST
TZOFFSETFROM:+0000
TZOFFSETTO:+0100
DTSTART:19700329T010000
RRULE:FREQ=YEARLY;BYMONTH=3;BYDAY=-1SU
END:DAYLIGHT
BEGIN:STANDARD
TZNAME:GMT
TZOFFSETFROM:+0100
TZOFFSETTO:+0000
DTSTART:19701025T020000
RRULE:FREQ=YEARLY;BYMONTH=10;BYDAY=-1SU
END:STANDARD
END:VTIMEZONE
BEGIN:VEVENT
DTSTART;TZID=Europe/London:20250128T103000
DTEND;TZID=Europe/London:20250128T113000
DTSTAMP:20260423T111235Z
UID:{04BBC82B-7119-41F2-9C3DF325165E39A0}
LOCATION:Online
SUMMARY:Using institutional data to identify equality gaps and evaluate interventions
DESCRIPTION:This free TASO (Transforming Access and Student Outcomes in Higher Education) event introduces the Institutional Data Use project which seeks to use institutional data to identify equality gaps and evaluate interventions.\n
 \n
 Event details: https://www.amosshe.org.uk/latest/event-calendar/using-institutional-data-to-identify-equality-gaps-and-evaluate-interventions.html
PRIORITY:1
END:VEVENT
END:VCALENDAR