BEGIN:VCALENDAR
PRODID:-//Pixl8//Eventfolio//EN
VERSION:2.0
X-WR-TIMEZONE:Europe/London
CALSCALE:GREGORIAN
METHOD:PUBLISH
CLASS:PUBLIC
BEGIN:VTIMEZONE
TZID:Europe/London
LAST-MODIFIED:20260306T231828Z
TZURL:https://www.tzurl.org/zoneinfo-outlook/Europe/London
X-LIC-LOCATION:Europe/London
BEGIN:DAYLIGHT
TZNAME:BST
TZOFFSETFROM:+0000
TZOFFSETTO:+0100
DTSTART:19700329T010000
RRULE:FREQ=YEARLY;BYMONTH=3;BYDAY=-1SU
END:DAYLIGHT
BEGIN:STANDARD
TZNAME:GMT
TZOFFSETFROM:+0100
TZOFFSETTO:+0000
DTSTART:19701025T020000
RRULE:FREQ=YEARLY;BYMONTH=10;BYDAY=-1SU
END:STANDARD
END:VTIMEZONE
BEGIN:VEVENT
DTSTART;TZID=Europe/London;VALUE=DATE:20251119
DTEND;TZID=Europe/London;VALUE=DATE:20251120
DTSTAMP:20260426T015143Z
UID:{3FD5AF10-76FE-4C1D-8A9B1BB8A1183906}
LOCATION:London\, United Kingdom
SUMMARY:#WeAreInternational Awards 2025
DESCRIPTION:This UKCISA (UK Council for International Student Affairs) event recognises international students and everyone who supports them across the UK. \n
 \n
 Event details: https://www.amosshe.org.uk/latest/event-calendar/weareinternational-awards-2025.html
PRIORITY:1
END:VEVENT
END:VCALENDAR