BEGIN:VCALENDAR
PRODID:-//Pixl8//Eventfolio//EN
VERSION:2.0
X-WR-TIMEZONE:Europe/London
CALSCALE:GREGORIAN
METHOD:PUBLISH
CLASS:PUBLIC
BEGIN:VTIMEZONE
TZID:Europe/London
LAST-MODIFIED:20260306T231828Z
TZURL:https://www.tzurl.org/zoneinfo-outlook/Europe/London
X-LIC-LOCATION:Europe/London
BEGIN:DAYLIGHT
TZNAME:BST
TZOFFSETFROM:+0000
TZOFFSETTO:+0100
DTSTART:19700329T010000
RRULE:FREQ=YEARLY;BYMONTH=3;BYDAY=-1SU
END:DAYLIGHT
BEGIN:STANDARD
TZNAME:GMT
TZOFFSETFROM:+0100
TZOFFSETTO:+0000
DTSTART:19701025T020000
RRULE:FREQ=YEARLY;BYMONTH=10;BYDAY=-1SU
END:STANDARD
END:VTIMEZONE
BEGIN:VEVENT
DTSTART;TZID=Europe/London:20250521T093000
DTEND;TZID=Europe/London:20250521T164500
DTSTAMP:20260423T112127Z
UID:{7B623AB5-EAE4-4CA9-B57339C39CCA50FE}
LOCATION:Online
SUMMARY:Wellbeing in the voluntary sector conference 2025
DESCRIPTION:This Government Events conference brings delegates to collaborate on positive and innovative approaches to supporting wellbeing in the voluntary sector.\n
 \n
 Event details: https://www.amosshe.org.uk/latest/event-calendar/wellbeing-in-the-voluntary-sector-conference-2025.html
PRIORITY:1
END:VEVENT
END:VCALENDAR