BEGIN:VCALENDAR
PRODID:-//Pixl8//Eventfolio//EN
VERSION:2.0
X-WR-TIMEZONE:Europe/London
CALSCALE:GREGORIAN
METHOD:PUBLISH
CLASS:PUBLIC
BEGIN:VTIMEZONE
TZID:Europe/London
LAST-MODIFIED:20260306T231828Z
TZURL:https://www.tzurl.org/zoneinfo-outlook/Europe/London
X-LIC-LOCATION:Europe/London
BEGIN:DAYLIGHT
TZNAME:BST
TZOFFSETFROM:+0000
TZOFFSETTO:+0100
DTSTART:19700329T010000
RRULE:FREQ=YEARLY;BYMONTH=3;BYDAY=-1SU
END:DAYLIGHT
BEGIN:STANDARD
TZNAME:GMT
TZOFFSETFROM:+0100
TZOFFSETTO:+0000
DTSTART:19701025T020000
RRULE:FREQ=YEARLY;BYMONTH=10;BYDAY=-1SU
END:STANDARD
END:VTIMEZONE
BEGIN:VEVENT
DTSTART;TZID=Europe/London;VALUE=DATE:20250305
DTEND;TZID=Europe/London;VALUE=DATE:20250306
DTSTAMP:20260423T112102Z
UID:{4AB5B068-0D03-45CF-93FD53311E3B756B}
LOCATION:Online
SUMMARY:White lines: understanding cocaine – effects, risks, addiction and harm reduction
DESCRIPTION:This Drugtraining.com event explores important issues around the recent explosion in cocaine use in the UK.\n
 \n
 Event details: https://www.amosshe.org.uk/latest/event-calendar/white-lines-understanding-cocaine-effects-risks-addiction-and-harm-reduction.html
PRIORITY:1
END:VEVENT
END:VCALENDAR