BEGIN:VCALENDAR
PRODID:-//Pixl8//Eventfolio//EN
VERSION:2.0
X-WR-TIMEZONE:Europe/London
CALSCALE:GREGORIAN
METHOD:PUBLISH
CLASS:PUBLIC
BEGIN:VTIMEZONE
TZID:Europe/London
LAST-MODIFIED:20260306T231828Z
TZURL:https://www.tzurl.org/zoneinfo-outlook/Europe/London
X-LIC-LOCATION:Europe/London
BEGIN:DAYLIGHT
TZNAME:BST
TZOFFSETFROM:+0000
TZOFFSETTO:+0100
DTSTART:19700329T010000
RRULE:FREQ=YEARLY;BYMONTH=3;BYDAY=-1SU
END:DAYLIGHT
BEGIN:STANDARD
TZNAME:GMT
TZOFFSETFROM:+0100
TZOFFSETTO:+0000
DTSTART:19701025T020000
RRULE:FREQ=YEARLY;BYMONTH=10;BYDAY=-1SU
END:STANDARD
END:VTIMEZONE
BEGIN:VEVENT
DTSTART;TZID=Europe/London:20250521T150000
DTEND;TZID=Europe/London:20250521T160000
DTSTAMP:20260425T200140Z
UID:{3A56691F-784E-4D21-B991044C4BCB7407}
LOCATION:Online
SUMMARY:Who are the students of the future?
DESCRIPTION:This free Universities UK event explores key challenges and opportunities facing universities as they navigate the rapid transformation of the student experience as Generation Alpha starts transitioning into higher education.\n
 \n
 Event details: https://www.amosshe.org.uk/latest/event-calendar/who-are-the-students-of-the-future.html
PRIORITY:1
END:VEVENT
END:VCALENDAR