BEGIN:VCALENDAR
PRODID:-//Pixl8//Eventfolio//EN
VERSION:2.0
X-WR-TIMEZONE:Europe/London
CALSCALE:GREGORIAN
METHOD:PUBLISH
CLASS:PUBLIC
BEGIN:VTIMEZONE
TZID:Europe/London
LAST-MODIFIED:20260306T231828Z
TZURL:https://www.tzurl.org/zoneinfo-outlook/Europe/London
X-LIC-LOCATION:Europe/London
BEGIN:DAYLIGHT
TZNAME:BST
TZOFFSETFROM:+0000
TZOFFSETTO:+0100
DTSTART:19700329T010000
RRULE:FREQ=YEARLY;BYMONTH=3;BYDAY=-1SU
END:DAYLIGHT
BEGIN:STANDARD
TZNAME:GMT
TZOFFSETFROM:+0100
TZOFFSETTO:+0000
DTSTART:19701025T020000
RRULE:FREQ=YEARLY;BYMONTH=10;BYDAY=-1SU
END:STANDARD
END:VTIMEZONE
BEGIN:VEVENT
DTSTART;TZID=Europe/London;VALUE=DATE:20241128
DTEND;TZID=Europe/London;VALUE=DATE:20241129
DTSTAMP:20260425T231428Z
UID:{40C2A9AD-A554-4C1F-8BAC24BF078FF10E}
LOCATION:Online
SUMMARY:Widening higher education access and participation in the UK
DESCRIPTION:This Westminster Forum Projects event considers the next steps for widening higher education access and participation in the UK, and strategies for improving outcomes for students from disadvantaged backgrounds.\n
 \n
 Event details: https://www.amosshe.org.uk/latest/event-calendar/widening-higher-education-access-and-participation-in-the-uk.html
PRIORITY:1
END:VEVENT
END:VCALENDAR