BEGIN:VCALENDAR
PRODID:-//Pixl8//Eventfolio//EN
VERSION:2.0
X-WR-TIMEZONE:Europe/London
CALSCALE:GREGORIAN
METHOD:PUBLISH
CLASS:PUBLIC
BEGIN:VTIMEZONE
TZID:Europe/London
LAST-MODIFIED:20260306T231828Z
TZURL:https://www.tzurl.org/zoneinfo-outlook/Europe/London
X-LIC-LOCATION:Europe/London
BEGIN:DAYLIGHT
TZNAME:BST
TZOFFSETFROM:+0000
TZOFFSETTO:+0100
DTSTART:19700329T010000
RRULE:FREQ=YEARLY;BYMONTH=3;BYDAY=-1SU
END:DAYLIGHT
BEGIN:STANDARD
TZNAME:GMT
TZOFFSETFROM:+0100
TZOFFSETTO:+0000
DTSTART:19701025T020000
RRULE:FREQ=YEARLY;BYMONTH=10;BYDAY=-1SU
END:STANDARD
END:VTIMEZONE
BEGIN:VEVENT
DTSTART;TZID=Europe/London;VALUE=DATE:20241205
DTEND;TZID=Europe/London;VALUE=DATE:20241206
DTSTAMP:20260423T141844Z
UID:{598CB4A5-B772-4693-B23C5242BE623ED1}
LOCATION:London\, United Kingdom
SUMMARY:Widening participation conference 2024
DESCRIPTION:This HE Professional event explores how to deliver impact following the submission of Access and Participation Plans and explore how to support continuous improvement in reducing risks to equality of opportunity.\n
 \n
 Event details: https://www.amosshe.org.uk/latest/event-calendar/widening-participation-conference-2024.html
PRIORITY:1
END:VEVENT
END:VCALENDAR