BEGIN:VCALENDAR
PRODID:-//Pixl8//Eventfolio//EN
VERSION:2.0
X-WR-TIMEZONE:Europe/London
CALSCALE:GREGORIAN
METHOD:PUBLISH
CLASS:PUBLIC
BEGIN:VTIMEZONE
TZID:Europe/London
LAST-MODIFIED:20260306T231828Z
TZURL:https://www.tzurl.org/zoneinfo-outlook/Europe/London
X-LIC-LOCATION:Europe/London
BEGIN:DAYLIGHT
TZNAME:BST
TZOFFSETFROM:+0000
TZOFFSETTO:+0100
DTSTART:19700329T010000
RRULE:FREQ=YEARLY;BYMONTH=3;BYDAY=-1SU
END:DAYLIGHT
BEGIN:STANDARD
TZNAME:GMT
TZOFFSETFROM:+0100
TZOFFSETTO:+0000
DTSTART:19701025T020000
RRULE:FREQ=YEARLY;BYMONTH=10;BYDAY=-1SU
END:STANDARD
END:VTIMEZONE
BEGIN:VEVENT
DTSTART;TZID=Europe/London:20241203T090000
DTEND;TZID=Europe/London:20241203T160000
DTSTAMP:20260423T142035Z
UID:{0746C671-D55C-4C03-BE5126750F491473}
LOCATION:London\, United Kingdom
SUMMARY:Women in leadership
DESCRIPTION:This Understanding ModernGov event helps women in leadership roles create a personal vision of what it means to be a great leader and enhance their capabilities to rise to challenges.\n
 \n
 Event details: https://www.amosshe.org.uk/latest/event-calendar/women-in-leadership-1.html
PRIORITY:1
END:VEVENT
END:VCALENDAR