BEGIN:VCALENDAR
PRODID:-//Pixl8//Eventfolio//EN
VERSION:2.0
X-WR-TIMEZONE:Europe/London
CALSCALE:GREGORIAN
METHOD:PUBLISH
CLASS:PUBLIC
BEGIN:VTIMEZONE
TZID:Europe/London
LAST-MODIFIED:20260306T231828Z
TZURL:https://www.tzurl.org/zoneinfo-outlook/Europe/London
X-LIC-LOCATION:Europe/London
BEGIN:DAYLIGHT
TZNAME:BST
TZOFFSETFROM:+0000
TZOFFSETTO:+0100
DTSTART:19700329T010000
RRULE:FREQ=YEARLY;BYMONTH=3;BYDAY=-1SU
END:DAYLIGHT
BEGIN:STANDARD
TZNAME:GMT
TZOFFSETFROM:+0100
TZOFFSETTO:+0000
DTSTART:19701025T020000
RRULE:FREQ=YEARLY;BYMONTH=10;BYDAY=-1SU
END:STANDARD
END:VTIMEZONE
BEGIN:VEVENT
DTSTART;TZID=Europe/London;VALUE=DATE:20260430
DTEND;TZID=Europe/London;VALUE=DATE:20260501
DTSTAMP:20260425T231709Z
UID:{929B86B5-C764-40E5-9DE26C999BF7C09A}
LOCATION:Online
SUMMARY:Women in leadership – techniques and pathways to senior role
DESCRIPTION:This MyPD event is for women who are looking to take their careers to the next level and make a lasting impact on their organisations and industries.\n
 \n
 Event details: https://www.amosshe.org.uk/latest/event-calendar/women-in-leadership-techniques-and-pathways-to-senior-role-5.html
PRIORITY:1
END:VEVENT
END:VCALENDAR